BEGIN:VCALENDAR
VERSION:2.0
PRODID:-//hacksw/handcal//NONSGML v1.0//EN
BEGIN:VEVENT
DTSTART:20230417T100000Z
DTEND:20230419T210000Z
LOCATION:HEC UK House  \n43 Parker Street \nWC2B 5PS LONDON
ORGANIZER;CN=Mathilde Bastie-Courtois:MAILTO:mathilde.courtois@hecalumni.fr
SUMMARY:HEC Life Project Festival 2023 - LET'S THINK DIFFERENTLY! How diversity improves the workplace. (ENGLISH PROGRAM)
DESCRIPTION:The HEC Life Project Festival is back in April for a 4th edition on the theme: "LET'S THINK DIFFERENTLY! How diversity improves the workplace."On the program of this major annual HEC Alumni event on...
URL:https://www.hecalumni.fr/fr/event/hec-life-project-festival-2023-let-s-think-differently-how-diversity-improves-the-workplace-english-program/2023/04/17/9969
BEGIN:VALARM
TRIGGER:-P0DT1H0M0S
ACTION:DISPLAY
END:VALARM
END:VEVENT
END:VCALENDAR