BEGIN:VCALENDAR
VERSION:2.0
PRODID:-//hacksw/handcal//NONSGML v1.0//EN
BEGIN:VEVENT
DTSTART:20230310T193000Z
DTEND:20230310T213000Z
LOCATION:Eglise Ste Trinité \nPlace d'Estienne d'Orves \n75009 PARIS
ORGANIZER;CN=Laurence Rolland - HEC Grande Ecole 1978:MAILTO:laurence.rolland@hecalumni.fr
SUMMARY:Requiem de Verdi - 10 Mars 2023
DESCRIPTION:Très chers anciens amis HEC,\nVendredi 10 mars à 20h30\nle Chœur Hugues Reiner (dans lequel je chante comme alto ) donnera, à l’église de la Trinité (place d'Estienne d'Orves Paris 9ème), le Requiem...
URL:https://www.hecalumni.fr/fr/group/hec-grande-ecole-1978/935/calendar/requiem-de-verdi-10-mars-2023/2023/03/10/9957
BEGIN:VALARM
TRIGGER:-P0DT1H0M0S
ACTION:DISPLAY
END:VALARM
END:VEVENT
END:VCALENDAR