BEGIN:VCALENDAR
VERSION:2.0
PRODID:-//hacksw/handcal//NONSGML v1.0//EN
BEGIN:VEVENT
DTSTART:20230422T180000Z
DTEND:20230423T000000Z
LOCATION:Péniche Baleine Blanche \nPort Gare \n75013 Paris
ORGANIZER;CN=Anne Kachaner - HEC Grande Ecole 1987:MAILTO:anne.kachaner@wanadoo.fr
SUMMARY:Promo HEC 1987 - Soirée le 22 avril 2023
DESCRIPTION:\n35 ANS (+ 1)IL EST TEMPS DE NOUS RETROUVER !\nChère camarade, cher camarade,\nVoici maintenant les informations pour notre soirée qui se déroulera : \n samedi 22 avril 2023\nà partir de 20 heures...
URL:https://www.hecalumni.fr/fr/group/hec-grande-ecole-1987/1087/calendar/promo-hec-1987-soiree-le-22-avril-2023/2023/04/22/9903
BEGIN:VALARM
TRIGGER:-P0DT1H0M0S
ACTION:DISPLAY
END:VALARM
END:VEVENT
END:VCALENDAR