BEGIN:VCALENDAR
VERSION:2.0
PRODID:-//hacksw/handcal//NONSGML v1.0//EN
BEGIN:VEVENT
DTSTART:20230411T160000Z
DTEND:20230419T200000Z
LOCATION:Morning Laffitte \n34, Rue Laffitte \n75009 PARIS
ORGANIZER;CN=Mathilde Bastie-Courtois:MAILTO:mathilde.courtois@hecalumni.fr
SUMMARY:Festival HEC Life Project 2023 "LET'S THINK DIFFERENT ! Quand nos diversitéS font grandir le monde du travail
DESCRIPTION:Le Festival HEC Life Project fait son retour du 11 au 19 avril prochain pour une 4ème édition sur le thème : « LET’S THINK DIFFERENT ! Quand nos diversitéS font grandir le monde du travail. »Au...
URL:https://www.hecalumni.fr/fr/event/festival-hec-life-project-2023-let-s-think-different-quand-nos-diversites-font-grandir-le-monde-du-travail/2023/04/11/9901
BEGIN:VALARM
TRIGGER:-P0DT1H0M0S
ACTION:DISPLAY
END:VALARM
END:VEVENT
END:VCALENDAR