BEGIN:VCALENDAR
VERSION:2.0
PRODID:-//hacksw/handcal//NONSGML v1.0//EN
BEGIN:VEVENT
DTSTART:20230302T220000Z
DTEND:20230303T000000Z
LOCATION:Bow Market \n1 Bow Market Way \n02143 Somerville, MA 02143
ORGANIZER;CN=Monique Mulkern - USA - Boston:MAILTO:verrier_monique@hotmail.com
SUMMARY:Afterwork - March 2nd - Bow Market
DESCRIPTION:Bonjour, hello! With spring in the air and the waning feel of winter, looking to have a causal reunion of local HEC Paris alumni in a new, cool spot in Somerville, called Bow Market....
URL:https://www.hecalumni.fr/fr/group/usa-boston/307/calendar/afterwork-march-2nd-bow-market/2023/03/02/9887
BEGIN:VALARM
TRIGGER:-P0DT1H0M0S
ACTION:DISPLAY
END:VALARM
END:VEVENT
END:VCALENDAR