BEGIN:VCALENDAR
VERSION:2.0
PRODID:-//hacksw/handcal//NONSGML v1.0//EN
BEGIN:VEVENT
DTSTART:20230217T113000Z
DTEND:20230217T130000Z
LOCATION:UNICEF offices in Sanlitun
ORGANIZER;CN=Ophelie Martinel - China - Beijing:MAILTO:ophelie.martinel@hecalumni.fr
SUMMARY:HECShe Talks
DESCRIPTION:\nFriday 17 February | 7:30 PM– 9PM UTC+8Our HECShe Talks 2nd session in Beijing organized by Beijing Chapter and China office will take place at UNICEF offices in Sanlitun.Speakers:  Natalie YU,...
URL:https://www.hecalumni.fr/fr/group/china-beijing/293/calendar/hecshe-talks/2023/02/17/9878
BEGIN:VALARM
TRIGGER:-P0DT1H0M0S
ACTION:DISPLAY
END:VALARM
END:VEVENT
END:VCALENDAR