BEGIN:VCALENDAR
VERSION:2.0
PRODID:-//hacksw/handcal//NONSGML v1.0//EN
BEGIN:VEVENT
DTSTART:20230209T180000Z
DTEND:20230209T193000Z
LOCATION:DS Avocats \n6, rue Duret \n75116 Paris
ORGANIZER;CN=Théodora Plagnard - Finance d'Entreprise - Corporate Finance:MAILTO:theodora.plagnard@gmail.com
SUMMARY:Actualité de la Finance d'Entreprise - Vernimmen 2023 - Le point sur l'inflation
DESCRIPTION:Chèr(e)s Camarades,En ce début d’année, le club HEC Finance d’entreprise vous propose un moment de réflexion et d’échanges autour des thèmes d’actualité avec Pascal Quiry (H. 84) et Yann Le Fur (H....
URL:https://www.hecalumni.fr/fr/group/finance-d-entreprise-corporate-finance/395/calendar/actualite-de-la-finance-d-entreprise-vernimmen-2023-le-point-sur-l-inflation/2023/02/09/9776
BEGIN:VALARM
TRIGGER:-P0DT1H0M0S
ACTION:DISPLAY
END:VALARM
END:VEVENT
END:VCALENDAR