BEGIN:VCALENDAR
VERSION:2.0
PRODID:-//hacksw/handcal//NONSGML v1.0//EN
BEGIN:VEVENT
DTSTART:20230124T080000Z
DTEND:20230124T120000Z
LOCATION:Association HEC Alumni \n9 Avenue Franklin Delano Roosevelt \n75008 Paris
ORGANIZER;CN=Mathilde Bastie-Courtois:MAILTO:mathilde.courtois@hecalumni.fr
SUMMARY:Atelier HEC Life Project "Multipotentiels : s'autoriser à ouvrir les possibles en 2023"
DESCRIPTION:(Nouveau) ATELIER HEC Life Project - Multipotentiels : s'autoriser à ouvrir les possibles en 2023.Une matinée d'accompagnement collectif dédiée aux personnes HPI et Multipotentielles. Mardi 24 janvier...
URL:https://www.hecalumni.fr/fr/event/atelier-hec-life-project-multipotentiels-s-autoriser-a-ouvrir-les-possibles-en-2023/2023/01/24/9644
BEGIN:VALARM
TRIGGER:-P0DT1H0M0S
ACTION:DISPLAY
END:VALARM
END:VEVENT
END:VCALENDAR