BEGIN:VCALENDAR
VERSION:2.0
PRODID:-//hacksw/handcal//NONSGML v1.0//EN
BEGIN:VEVENT
DTSTART:20220324T123000Z
DTEND:20220324T140000Z
LOCATION:https://us02web.zoom.us/j/83904060295
ORGANIZER;CN=Christina Keo:MAILTO:
SUMMARY:Workshop: How to prepare your mind for success - With Benjamin-Depraz-Brenninkmeijer (H.13)
DESCRIPTION:\nOur mind is the most powerful tool we have and there are ways to sharpen it in order to reach our goals.  While success is very subjective and different for each person, our minds function the same ...
URL:https://www.hecalumni.fr/fr/event/workshop-how-to-prepare-your-mind-for-success-with-benjamin-depraz-brenninkmeijer-h-13/2022/03/24/8614
BEGIN:VALARM
TRIGGER:-P0DT1H0M0S
ACTION:DISPLAY
END:VALARM
END:VEVENT
END:VCALENDAR