BEGIN:VCALENDAR
VERSION:2.0
PRODID:-//hacksw/handcal//NONSGML v1.0//EN
BEGIN:VEVENT
DTSTART:20211005T120000Z
DTEND:20211005T130000Z
LOCATION:https://us02web.zoom.us/j/85487111889
ORGANIZER;CN=Christina Keo:MAILTO:
SUMMARY:HEC UK Life Project - Exploring your personality traits to achieve higher professional success - Lumina Spark
DESCRIPTION:\nHEC UK Life Project Workshop: Building Your Project\nIncrease self-awareness, reveal hidden potential and cope better under pressure. Discover practical actions for improved communication, teamwork ...
URL:https://www.hecalumni.fr/fr/event/hec-uk-life-project-exploring-your-personality-traits-to-achieve-higher-professional-success-lumina-spark/2021/10/05/7914
BEGIN:VALARM
TRIGGER:-P0DT1H0M0S
ACTION:DISPLAY
END:VALARM
END:VEVENT
END:VCALENDAR