BEGIN:VCALENDAR
VERSION:2.0
PRODID:-//hacksw/handcal//NONSGML v1.0//EN
BEGIN:VEVENT
DTSTART:20211123T130000Z
DTEND:20211123T140000Z
LOCATION:
ORGANIZER;CN=Christina Keo:MAILTO:
SUMMARY:HEC UK Life Project Workshop - Mastering Powerful Talks and Presentations - With Valerie Gabail, Founder & Director of the Professional Voice Trainer
DESCRIPTION:\nJoin us for an interactive workshop with practical tips and strategies to engage your audience and share your ideas powerfully.\nMastering Powerful Talks and Presentations\nWith Valerie Gabail,...
URL:https://www.hecalumni.fr/fr/event/hec-uk-life-project-workshop-mastering-powerful-talks-and-presentations-with-valerie-gabail-founder-director-of-the-professional-voice-trainer/2021/11/23/7834
BEGIN:VALARM
TRIGGER:-P0DT1H0M0S
ACTION:DISPLAY
END:VALARM
END:VEVENT
END:VCALENDAR