BEGIN:VCALENDAR
VERSION:2.0
PRODID:-//hacksw/handcal//NONSGML v1.0//EN
BEGIN:VEVENT
DTSTART:20210910T133000
DTEND:20210910T173000
LOCATION:HEC Alumni \n9, Avenue Franklin Delano Roosevelt \n75008 PARIS
ORGANIZER;CN=Marine Homo:MAILTO:marine.homo@hecalumni.fr
SUMMARY:Séminaire "Nouvelle vie" - 10 & 17 septembre
DESCRIPTION:Une journée et demi pour mieux comprendre, partager et se préparer à la transition emploi-retraite\nObjectifs : - Connaitre le fonctionnement du système actuel de calcul des pensions et ses...
URL:https://www.hecalumni.fr/fr/event/seminaire-nouvelle-vie-10-17-septembre/2021/09/10/7276
BEGIN:VALARM
TRIGGER:-P0DT1H0M0S
ACTION:DISPLAY
END:VALARM
END:VEVENT
END:VCALENDAR