BEGIN:VCALENDAR
VERSION:2.0
PRODID:-//hacksw/handcal//NONSGML v1.0//EN
BEGIN:VEVENT
DTSTART:20210114T130000Z
DTEND:20210114T140000Z
LOCATION:https://us02web.zoom.us/j/86259546920?pwd=WGppV2pJTGhJOVJCUWNEYURnSTZkUT09 
ORGANIZER;CN=Alyssa Noelle Dominioni:MAILTO:alyssa.dominioni@hecalumni.fr
SUMMARY:Advanced CV Writing: Get Noticed by Recruiters! HEC UK Life Project
DESCRIPTION:Code d'accès du webinar ID 862 5954 6920 / code 343799...
URL:https://www.hecalumni.fr/fr/event/advanced-cv-writing-get-noticed-by-recruiters-hec-uk-life-project/2021/01/14/7217
BEGIN:VALARM
TRIGGER:-P0DT1H0M0S
ACTION:DISPLAY
END:VALARM
END:VEVENT
END:VCALENDAR