BEGIN:VCALENDAR
VERSION:2.0
PRODID:-//hacksw/handcal//NONSGML v1.0//EN
BEGIN:VEVENT
DTSTART:20210203T183000
DTEND:20210203T200000
LOCATION:
ORGANIZER;CN=Marine Homo:MAILTO:marine.homo@hecalumni.fr
SUMMARY:Webinar "Les 7 facteurs clés pour réussir vos entretiens de recrutement"
DESCRIPTION:OBJECTIFMieux comprendre ce qui doit se passer pendant un entretien de recrutement pour trouver la bonne posture et le bon discoursPROGRAMMEComment créer la bonne relation et interagir efficacement...
URL:https://www.hecalumni.fr/fr/event/webinar-les-7-facteurs-cles-pour-reussir-vos-entretiens-de-recrutement/2021/02/03/7197
BEGIN:VALARM
TRIGGER:-P0DT1H0M0S
ACTION:DISPLAY
END:VALARM
END:VEVENT
END:VCALENDAR