BEGIN:VCALENDAR
VERSION:2.0
PRODID:-//hacksw/handcal//NONSGML v1.0//EN
BEGIN:VEVENT
DTSTART:20210212T080000
DTEND:20210212T153000
LOCATION:
ORGANIZER;CN=Marine Homo:MAILTO:marine.homo@hecalumni.fr
SUMMARY:Webinar "Redessinez votre carrière et réussissez votre recherche d'emploi"
DESCRIPTION:Piloter sa carrière suppose donc de bien se connaître, redessinez totalement votre carrière !\nManager chacune de ses recherches d’emploi… au service d’un véritable plan de carrière!« Best of » de...
URL:https://www.hecalumni.fr/fr/event/webinar-redessinez-votre-carriere-et-reussissez-votre-recherche-d-emploi/2021/02/12/7031
BEGIN:VALARM
TRIGGER:-P0DT1H0M0S
ACTION:DISPLAY
END:VALARM
END:VEVENT
END:VCALENDAR