BEGIN:VCALENDAR
VERSION:2.0
PRODID:-//hacksw/handcal//NONSGML v1.0//EN
BEGIN:VEVENT
DTSTART:20201106T180000
DTEND:20201106T190000
LOCATION:
ORGANIZER;CN=Alyssa Noelle Dominioni:MAILTO:alyssa.dominioni@hecalumni.fr
SUMMARY:US Presidential Election - Analysis and Discusion with HEC Prof Jeremy Ghez
DESCRIPTION:US Presidential Election - Analysis and Discusion with HEC Prof Jeremy Ghez \nFriday November 6th, 202012:00pm EDT  / 6:00pm Paris  / 5:00pm LondonOnline\nVincent Muzelle, director of the HEC USA...
URL:https://www.hecalumni.fr/fr/event/us-presidential-election-analysis-and-discusion-with-hec-prof-jeremy-ghez/2020/11/06/7015
BEGIN:VALARM
TRIGGER:-P0DT1H0M0S
ACTION:DISPLAY
END:VALARM
END:VEVENT
END:VCALENDAR