BEGIN:VCALENDAR
VERSION:2.0
PRODID:-//hacksw/handcal//NONSGML v1.0//EN
BEGIN:VEVENT
DTSTART:20201109T183000
DTEND:20201109T193000
LOCATION:https://us02web.zoom.us/j/85004226305?pwd=cktTaCtwYkJ4ajk5eDduRFY0ampNUT09
ORGANIZER;CN=HEC Life Project:MAILTO:mailys.tokarski@hecalumni.fr
SUMMARY:Webinar d'information sur le CAP avec L'atelier des Chefs
DESCRIPTION:Code d'accès du webinar 290641...
URL:https://www.hecalumni.fr/fr/event/webinar-d-information-sur-le-cap-avec-l-atelier-des-chefs/2020/11/09/7004
BEGIN:VALARM
TRIGGER:-P0DT1H0M0S
ACTION:DISPLAY
END:VALARM
END:VEVENT
END:VCALENDAR