BEGIN:VCALENDAR
VERSION:2.0
PRODID:-//hacksw/handcal//NONSGML v1.0//EN
BEGIN:VEVENT
DTSTART:20201021T183000
DTEND:20201021T200000
LOCATION:
ORGANIZER;CN=Marine Homo:MAILTO:marine.homo@hecalumni.fr
SUMMARY:Apéro WATs4U "L'impact du Covid sur les secteurs des énergies renouvelables" - 21 octobre
DESCRIPTION:Retrouvons-nous pour un apéro on line\nmercredi 21 octobre de 18h30 à 20h.\nNous aborderons l'impact du Covid sur le secteur des énergies renouvelables au cours d'une table ronde, suivie d'une session...
URL:https://www.hecalumni.fr/fr/event/apero-wats4u-l-impact-du-covid-sur-les-secteurs-des-energies-renouvelables-21-octobre/2020/10/21/7002
BEGIN:VALARM
TRIGGER:-P0DT1H0M0S
ACTION:DISPLAY
END:VALARM
END:VEVENT
END:VCALENDAR