BEGIN:VCALENDAR
VERSION:2.0
PRODID:-//hacksw/handcal//NONSGML v1.0//EN
BEGIN:VEVENT
DTSTART:20201012T090000
DTEND:20201012T190000
LOCATION:
ORGANIZER;CN=Marine Homo:MAILTO:marine.homo@hecalumni.fr
SUMMARY:Les Rencontres WATs4U - 12 et 13 octobre
DESCRIPTION:Une édition 100% virtuelle ! Vous êtes un Alumni jeune expérimenté d'une grande école de commerce ou d'ingénieurs membre de WATs4U? Vous souhaitez découvrir de nouvelles opportunités de carrière dans ...
URL:https://www.hecalumni.fr/fr/event/les-rencontres-wats4u-12-et-13-octobre/2020/10/12/6900
BEGIN:VALARM
TRIGGER:-P0DT1H0M0S
ACTION:DISPLAY
END:VALARM
END:VEVENT
END:VCALENDAR