BEGIN:VCALENDAR
VERSION:2.0
PRODID:-//hacksw/handcal//NONSGML v1.0//EN
BEGIN:VEVENT
DTSTART:20210406T090000
DTEND:20210406T130000
LOCATION:
ORGANIZER;CN=Marine Homo:MAILTO:marine.homo@hecalumni.fr
SUMMARY:Bootcamp en ligne  "Du CV à l'entretien : captez l'attention du recruteur... même si vous n'avez pas le profil idéal" - 6 & 13 avril
DESCRIPTION:Venez (re)découvrir les fondamentaux du recrutement et vous entraîner en groupe dans un cadre efficace et convivial. \nVous ressortirez avec\n- Des cibles et une stratégie de recherche formulées pour ...
URL:https://www.hecalumni.fr/fr/event/bootcamp-en-ligne-du-cv-a-l-entretien-captez-l-attention-du-recruteur-meme-si-vous-n-avez-pas-le-profil-ideal-6-13-avril/2021/04/06/6864
BEGIN:VALARM
TRIGGER:-P0DT1H0M0S
ACTION:DISPLAY
END:VALARM
END:VEVENT
END:VCALENDAR