BEGIN:VCALENDAR
VERSION:2.0
PRODID:-//hacksw/handcal//NONSGML v1.0//EN
BEGIN:VEVENT
DTSTART:20201009T123000
DTEND:20201009T140000
LOCATION:
ORGANIZER;CN=Marine Homo:MAILTO:marine.homo@hecalumni.fr
SUMMARY:Webinar "Le networking stratégique démystifié" - 9 octobre
DESCRIPTION:Comment accélérer sa carrière en réseautant efficacement - même si on déteste le networking.Vous excellez dans votre travail et pourtant votre carrière ou votre business stagne ? C'est probablement...
URL:https://www.hecalumni.fr/fr/event/webinar-le-networking-strategique-demystifie-9-octobre/2020/10/09/6772
BEGIN:VALARM
TRIGGER:-P0DT1H0M0S
ACTION:DISPLAY
END:VALARM
END:VEVENT
END:VCALENDAR