BEGIN:VCALENDAR
VERSION:2.0
PRODID:-//hacksw/handcal//NONSGML v1.0//EN
BEGIN:VEVENT
DTSTART:20200828T180000
DTEND:20200830T160000
LOCATION:Chamonix-Mont-Blanc \n76, Impasse de l'Androsace \n74400 CHAMONIX-MONT-BLANC
ORGANIZER;CN=HEC Life Project:MAILTO:mailys.tokarski@hecalumni.fr
SUMMARY:Learning expedition à Chamonix : découvrir l’alpinisme - 28 au 30 août
DESCRIPTION:Réservation close\nLe sens de gravir un sommetPourquoi grimper sur des montagnes lorsqu’on peut aussi bien les admirer d’en bas ? Que vont chercher les alpinistes qui arpentent depuis 250 ans les plus...
URL:https://www.hecalumni.fr/fr/event/learning-expedition-a-chamonix-decouvrir-l-alpinisme-28-au-30-aout/2020/08/28/6766
BEGIN:VALARM
TRIGGER:-P0DT1H0M0S
ACTION:DISPLAY
END:VALARM
END:VEVENT
END:VCALENDAR