BEGIN:VCALENDAR
VERSION:2.0
PRODID:-//hacksw/handcal//NONSGML v1.0//EN
BEGIN:VEVENT
DTSTART:20200709T110000
DTEND:20200709T130000
LOCATION:
ORGANIZER;CN=Renée Ramsay-Nicol:MAILTO:renee.ramsay-nicol@hecalumni.fr
SUMMARY:HEC Alumni - Focus Group Students/Recent Graduates (in English)
DESCRIPTION:Dear Recently Graduated Alumni,Welcome once again to the HEC Alumni community. We were delighted to count on your participation at our recent online presentations outlining the different services of...
URL:https://www.hecalumni.fr/fr/event/hec-alumni-focus-group-students-recent-graduates-in-english/2020/07/09/6752
BEGIN:VALARM
TRIGGER:-P0DT1H0M0S
ACTION:DISPLAY
END:VALARM
END:VEVENT
END:VCALENDAR