BEGIN:VCALENDAR
VERSION:2.0
PRODID:-//hacksw/handcal//NONSGML v1.0//EN
BEGIN:VEVENT
DTSTART:20200630T120000
DTEND:20200630T133000
LOCATION:zoom
ORGANIZER;CN=Joséphine Trinquet:MAILTO:josephine.trinquet@hecalumni.fr
SUMMARY:HEC Alumni's Mission Statement: Focus Group for Alumni (in English)
DESCRIPTION:Dear alumni,  As you know, an ambitious project was launched in March to redefine the Mission Statement and values of HEC Alumni. The first step was to carry out a survey on the values that our...
URL:https://www.hecalumni.fr/fr/event/hec-alumni-s-mission-statement-focus-group-for-alumni-in-english/2020/06/30/6708
BEGIN:VALARM
TRIGGER:-P0DT1H0M0S
ACTION:DISPLAY
END:VALARM
END:VEVENT
END:VCALENDAR