BEGIN:VCALENDAR
VERSION:2.0
PRODID:-//hacksw/handcal//NONSGML v1.0//EN
BEGIN:VEVENT
DTSTART:20200702T183000
DTEND:20200702T200000
LOCATION:zoom
ORGANIZER;CN=Joséphine Trinquet:MAILTO:josephine.trinquet@hecalumni.fr
SUMMARY:Raison d'être d'HEC Alumni: Focus Group (en français)
DESCRIPTION:Chers (chères) camarades,     Comme vous le savez, un projet ambitieux a été lancé en mars pour redéfinir la Raison d’être et les valeurs des HEC Alumni. La première étape a été de réaliser une...
URL:https://www.hecalumni.fr/fr/event/raison-d-etre-d-hec-alumni-focus-group-en-francais/2020/07/02/6706
BEGIN:VALARM
TRIGGER:-P0DT1H0M0S
ACTION:DISPLAY
END:VALARM
END:VEVENT
END:VCALENDAR