BEGIN:VCALENDAR
VERSION:2.0
PRODID:-//hacksw/handcal//NONSGML v1.0//EN
BEGIN:VEVENT
DTSTART:20200618T183000
DTEND:20200618T200000
LOCATION:zoom
ORGANIZER;CN=Janet O Sullivan:MAILTO:janet.osullivan@hecalumni.fr
SUMMARY:Raison d'être: Focus Group pour les bénévoles d'HEC Alumni (en français)
DESCRIPTION:Chers présidents et membres du Bureau des clubs, promotions et chapters,   Comme vous le savez, un projet ambitieux a été lancé en mars pour redéfinir la Raison d’être et les valeurs d'HEC...
URL:https://www.hecalumni.fr/fr/event/raison-d-etre-focus-group-pour-les-benevoles-d-hec-alumni-en-francais/2020/06/18/6703
BEGIN:VALARM
TRIGGER:-P0DT1H0M0S
ACTION:DISPLAY
END:VALARM
END:VEVENT
END:VCALENDAR