BEGIN:VCALENDAR
VERSION:2.0
PRODID:-//hacksw/handcal//NONSGML v1.0//EN
BEGIN:VEVENT
DTSTART:20200609T170000
DTEND:20200609T180000
LOCATION:
ORGANIZER;CN=Marine Homo:MAILTO:marine.homo@hecalumni.fr
SUMMARY:Webinar "How can strategy tools and approache help in a crisis situation?" by Prof. Pierre Dussauge
DESCRIPTION:When a crisis hits, as we are experiencing now with Covid-19, the economy goes into a tailspin, demand drops and firm profits plummet. Yet, not all industries and firms are affected in the same way....
URL:https://www.hecalumni.fr/fr/event/webinar-how-can-strategy-tools-and-approache-help-in-a-crisis-situation-by-prof-pierre-dussauge/2020/06/09/6639
BEGIN:VALARM
TRIGGER:-P0DT1H0M0S
ACTION:DISPLAY
END:VALARM
END:VEVENT
END:VCALENDAR