BEGIN:VCALENDAR
VERSION:2.0
PRODID:-//hacksw/handcal//NONSGML v1.0//EN
BEGIN:VEVENT
DTSTART:20200428T100000
DTEND:20200428T110000
LOCATION:-
ORGANIZER;CN=Marine Homo:MAILTO:marine.homo@hecalumni.fr
SUMMARY:Webinar "Pister un poste #autempsducorona" - PROCHAIN LE 28 MAI
DESCRIPTION:...et préparer la sortie de crise \n- Plus d'entretiens de recrutement ni de rendez-vous réseau en face-à-face... alors que nous n'avons jamais eu autant soif de contacts ; - les chasseurs de tête...
URL:https://www.hecalumni.fr/fr/event/webinar-pister-un-poste-autempsducorona-prochain-le-28-mai/2020/04/28/6471
BEGIN:VALARM
TRIGGER:-P0DT1H0M0S
ACTION:DISPLAY
END:VALARM
END:VEVENT
END:VCALENDAR