BEGIN:VCALENDAR
VERSION:2.0
PRODID:-//hacksw/handcal//NONSGML v1.0//EN
BEGIN:VEVENT
DTSTART:20200527T183000
DTEND:20200527T203000
LOCATION:Comet Etoile \n20, Rue de l'Amiral Hamelin \n75116 PARIS
ORGANIZER;CN=Marine Homo:MAILTO:marine.homo@hecalumni.fr
SUMMARY:REPORTE Conférence "Découvrez la démarche prospective pour mieux innover" - 27 mai
DESCRIPTION:Transformez l'incertitude en opportunité(s) ou comment la prospective facilite l'innovationLes approches prospectives permettent d'imaginer différents futurs possibles en réponse à une question...
URL:https://www.hecalumni.fr/fr/event/reporte-conference-decouvrez-la-demarche-prospective-pour-mieux-innover-27-mai/2020/05/27/6389
BEGIN:VALARM
TRIGGER:-P0DT1H0M0S
ACTION:DISPLAY
END:VALARM
END:VEVENT
END:VCALENDAR