BEGIN:VCALENDAR
VERSION:2.0
PRODID:-//hacksw/handcal//NONSGML v1.0//EN
BEGIN:VEVENT
DTSTART:20200602T180000
DTEND:20200602T210000
LOCATION:HEC Alumni \n9, Avenue Franklin Delano Roosevelt \n75008 PARIS
ORGANIZER;CN=Marine Homo:MAILTO:marine.homo@hecalumni.fr
SUMMARY:REPORTE - Workshop "Become stronger in the face of change and challenges- the neuropsychology of resilience" - June 2
DESCRIPTION:Changes and challenges will occur whether we are ready or not. What we can control is how we react to them and the resilience we built to ease the process.This workshop will blend a scientific and...
URL:https://www.hecalumni.fr/fr/event/reporte-workshop-become-stronger-in-the-face-of-change-and-challenges-the-neuropsychology-of-resilience-june-2/2020/06/02/6257
BEGIN:VALARM
TRIGGER:-P0DT1H0M0S
ACTION:DISPLAY
END:VALARM
END:VEVENT
END:VCALENDAR