BEGIN:VCALENDAR
VERSION:2.0
PRODID:-//hacksw/handcal//NONSGML v1.0//EN
BEGIN:VEVENT
DTSTART:20200423T090000
DTEND:20200424T190000
LOCATION:-
ORGANIZER;CN=Marine Homo:MAILTO:marine.homo@hecalumni.fr
SUMMARY:REPORTE - Séminaire "Entrainement à la reprise d'entreprise" - Module 3 - 23 & 24 avril
DESCRIPTION:Vous avez une vision de reprise d'entreprise ? Ce séminaire de 3x2 jours (3 modules séparables) vous permettra de savoir si l'aventure de la reprise est faite pour vous.Module 3 - Cas pratiques et...
URL:https://www.hecalumni.fr/fr/event/reporte-seminaire-entrainement-a-la-reprise-d-entreprise-module-3-23-24-avril/2020/04/23/6042
BEGIN:VALARM
TRIGGER:-P0DT1H0M0S
ACTION:DISPLAY
END:VALARM
END:VEVENT
END:VCALENDAR