BEGIN:VCALENDAR
VERSION:2.0
PRODID:-//hacksw/handcal//NONSGML v1.0//EN
BEGIN:VEVENT
DTSTART:20191216T183000
DTEND:20191216T213000
LOCATION:HEC Alumni \n9, Avenue Franklin Delano Roosevelt \n75008 PARIS
ORGANIZER;CN=Stéphanie Pfeiffer:MAILTO:stephanie.pfeiffer@hecalumni.fr
SUMMARY:Soirée job-networking avec Accenture chez HEC Alumni
DESCRIPTION:Nouveaux enjeux du digital: passer de l’outil à l’expérienceDu design de services à la transformation des processus industriels en passant par la data science, les nouvelles technologies infusent...
URL:https://www.hecalumni.fr/fr/event/soiree-job-networking-avec-accenture-chez-hec-alumni/2019/12/16/5922
BEGIN:VALARM
TRIGGER:-P0DT1H0M0S
ACTION:DISPLAY
END:VALARM
END:VEVENT
END:VCALENDAR