BEGIN:VCALENDAR
VERSION:2.0
PRODID:-//hacksw/handcal//NONSGML v1.0//EN
BEGIN:VEVENT
DTSTART:20191121T090000
DTEND:20191122T090500
LOCATION:Cabinet DIKAIOS \n33, Rue Fortuny \n75017 PARIS
ORGANIZER;CN=Marine Homo:MAILTO:marine.homo@hecalumni.fr
SUMMARY:Séminaire "Entrainement à la reprise d'entreprise" - Module 2
DESCRIPTION:Animé par Marie-Gabrielle Poisson (E.98)Module 2 : Les techniques de la repriseUn cycle de séminaires à l'initiative du Hub Entreprendre, du club REPRENEURS et d'HEC Carrières : 3 fois 2 jours pour...
URL:https://www.hecalumni.fr/fr/event/seminaire-entrainement-a-la-reprise-d-entreprise-module-2/2019/11/21/5722
BEGIN:VALARM
TRIGGER:-P0DT1H0M0S
ACTION:DISPLAY
END:VALARM
END:VEVENT
END:VCALENDAR