BEGIN:VCALENDAR
VERSION:2.0
PRODID:-//hacksw/handcal//NONSGML v1.0//EN
BEGIN:VEVENT
DTSTART:20201105T090000
DTEND:20201105T170000
LOCATION:HEC Alumni \n9, Avenue Franklin Delano Roosevelt \n75008 PARIS
ORGANIZER;CN=Marine Homo:MAILTO:marine.homo@hecalumni.fr
SUMMARY:Séminaire "La prise de parole en public : gagnez en impact" - 5 novembre
DESCRIPTION:Découvrez une manière de communiquer à l’orale différente et qui atteint son objectif, pour renforcer son leadership.\nMéthodeDans le cadre d’un séminaire d’une journée, nous allons alterner...
URL:https://www.hecalumni.fr/fr/event/seminaire-la-prise-de-parole-en-public-gagnez-en-impact-5-novembre/2020/11/05/5706
BEGIN:VALARM
TRIGGER:-P0DT1H0M0S
ACTION:DISPLAY
END:VALARM
END:VEVENT
END:VCALENDAR