BEGIN:VCALENDAR
VERSION:2.0
PRODID:-//hacksw/handcal//NONSGML v1.0//EN
BEGIN:VEVENT
DTSTART:20190710T081500
DTEND:20190710T093000
LOCATION:Pavillon Vendôme \n7, Place Vendôme \n75001 PARIS
ORGANIZER;CN=Flavia Sanches:MAILTO:flavia.sanches@hecalumni.fr
SUMMARY:MATIN HEC avec Zhang Minggang - Deputy CEO France HUAWEI
DESCRIPTION:C’est le deuxième fabricant de smartphones au monde devant Apple, le leader mondial en matière de 5G, et il est au milieu d’une tempête absolument inédite dans l’histoire du business international :...
URL:https://www.hecalumni.fr/fr/event/matin-hec-avec-zhang-minggang-deputy-ceo-france-huawei/2019/07/10/5433
BEGIN:VALARM
TRIGGER:-P0DT1H0M0S
ACTION:DISPLAY
END:VALARM
END:VEVENT
END:VCALENDAR