BEGIN:VCALENDAR
VERSION:2.0
PRODID:-//hacksw/handcal//NONSGML v1.0//EN
BEGIN:VEVENT
DTSTART:20190603T190000
DTEND:20190603T220000
LOCATION:CCI PARIS ÎLE-DE-FRANCE - Hôtel Potocki \n27, Avenue de Friedland \n75008 PARIS
ORGANIZER;CN=Alexandra Ouazan:MAILTO:alexandra.ouazan@hecalumni.fr
SUMMARY:Assemblée Générale HEC Alumni 2019
DESCRIPTION:\nAccueil à partir de 18h\n>> Informations & vote en ligne\nN’oubliez pas :Cotiser, c’est bénéficier de tarifs préférentiels pour nos événements ; mais cotiser, c‘est aussi un geste de solidarité pour...
URL:https://www.hecalumni.fr/fr/event/assemblee-generale-hec-alumni-2019/2019/06/03/5145
BEGIN:VALARM
TRIGGER:-P0DT1H0M0S
ACTION:DISPLAY
END:VALARM
END:VEVENT
END:VCALENDAR