BEGIN:VCALENDAR
VERSION:2.0
PRODID:-//hacksw/handcal//NONSGML v1.0//EN
BEGIN:VEVENT
DTSTART:20190930T193000
DTEND:20190930T213000
LOCATION:HEC Alumni \n9, Avenue Franklin Delano Roosevelt \n75008 PARIS
ORGANIZER;CN=Marine Homo:MAILTO:marine.homo@hecalumni.fr
SUMMARY:Atelier "Jeune et en quête de sens"
DESCRIPTION:Animateur : Jonathan Sardas (H.09), fondateur de DeRose For Leaders qui propose des formations dans plus de 10 pays. Il possède 8 ans d’expérience d’enseignement dans le développement des performances...
URL:https://www.hecalumni.fr/fr/event/atelier-jeune-et-en-quete-de-sens/2019/09/30/5070
BEGIN:VALARM
TRIGGER:-P0DT1H0M0S
ACTION:DISPLAY
END:VALARM
END:VEVENT
END:VCALENDAR