BEGIN:VCALENDAR
VERSION:2.0
PRODID:-//hacksw/handcal//NONSGML v1.0//EN
BEGIN:VEVENT
DTSTART:20190921T090000
DTEND:20190921T170000
LOCATION:CAMPUS HEC \n1, Rue de la Libération \n78350 JOUY-EN-JOSAS
ORGANIZER;CN=Laurence Rolland:MAILTO:laurence.rolland@hecalumni.fr
SUMMARY:Official HEC Executive MBA Reunion 2019
DESCRIPTION:\nOfficial HEC Executive MBA Reunion 2019 [Buy tickets here!]\nDear Alumni of Classes 2015, 2016, 2017 & 2018,Your wish is to re-connect with your EMBA friends, relive your EMBA adventure and find out...
URL:https://www.hecalumni.fr/fr/event/official-hec-executive-mba-reunion-2019/2019/09/21/5047
BEGIN:VALARM
TRIGGER:-P0DT1H0M0S
ACTION:DISPLAY
END:VALARM
END:VEVENT
END:VCALENDAR