BEGIN:VCALENDAR
VERSION:2.0
PRODID:-//hacksw/handcal//NONSGML v1.0//EN
BEGIN:VEVENT
DTSTART:20190408T193000
DTEND:20190408T223000
LOCATION:Maison des Centraliens \n8, Rue Jean Goujon \n75008 PARIS
ORGANIZER;CN=Marine Homo:MAILTO:marine.homo@hecalumni.fr
SUMMARY:Les Rencontres WATs4U - Job fair avec 10 recruteurs - 8 avril
DESCRIPTION:\nDernière ligne droite pour rencontrer Groupe ADP, Cat-Amania, DocteGestio, Gatewatcher, Greenworking, Julhiet Sterwen, McKinsey & Company, SpinPart, StreamPart et Vinci !\nDécouvre les opportunités ...
URL:https://www.hecalumni.fr/fr/event/les-rencontres-wats4u-job-fair-avec-10-recruteurs-8-avril/2019/04/08/5027
BEGIN:VALARM
TRIGGER:-P0DT1H0M0S
ACTION:DISPLAY
END:VALARM
END:VEVENT
END:VCALENDAR