BEGIN:VCALENDAR
VERSION:2.0
PRODID:-//hacksw/handcal//NONSGML v1.0//EN
BEGIN:VEVENT
DTSTART:20191105T183000
DTEND:20191105T213000
LOCATION:Le hub Bpifrance \n6, Boulevard Haussmann \n75009 PARIS
ORGANIZER;CN=Stéphanie Pfeiffer:MAILTO:stephanie.pfeiffer@hecalumni.fr
SUMMARY:Champions Pitch™ Masterclass : 5O Nuances de Pitch ?
DESCRIPTION:Bpifrance accueille une Masterclass Pitch d’exception le 5 Novembre 2019.\nUne soirée animée par le “Pape du Pitch” Jacques Birol (H.74) et  Aurélie Mesnil, Directrice partenariats et business...
URL:https://www.hecalumni.fr/fr/event/champions-pitch-masterclass-5o-nuances-de-pitch/2019/11/05/4748
BEGIN:VALARM
TRIGGER:-P0DT1H0M0S
ACTION:DISPLAY
END:VALARM
END:VEVENT
END:VCALENDAR