BEGIN:VCALENDAR
VERSION:2.0
PRODID:-//hacksw/handcal//NONSGML v1.0//EN
BEGIN:VEVENT
DTSTART:20190126T090000
DTEND:20190126T130000
LOCATION:HEC Alumni \n9, Avenue Franklin Delano Roosevelt \n75008 PARIS
ORGANIZER;CN=Claudette Couffi:MAILTO:claudette.couffi@hecalumni.fr
SUMMARY:Test MBTI - 26 janvier
DESCRIPTION:Animatrice : Evelyne BonleuMieux se connaître pour développer son potentiel, améliorer ses relations avec les autres et faire des choix cohérents d’évolution professionnelle.\n \nLe test MBTI...
URL:https://www.hecalumni.fr/fr/event/test-mbti-26-janvier/2019/01/26/4670
BEGIN:VALARM
TRIGGER:-P0DT1H0M0S
ACTION:DISPLAY
END:VALARM
END:VEVENT
END:VCALENDAR