BEGIN:VCALENDAR
VERSION:2.0
PRODID:-//hacksw/handcal//NONSGML v1.0//EN
BEGIN:VEVENT
DTSTART:20190117T100000
DTEND:20190117T123000
LOCATION:Campus HEC \n1, Rue de la Libération \n78350 JOUY-EN-JOSAS
ORGANIZER;CN=Marine Homo:MAILTO:marine.homo@hecalumni.fr
SUMMARY:SPEED MENTORING
DESCRIPTION:English below\nSESSION DE SPEED-MENTORING\njeudi 17 janvier 2019\n \nDans le cadre du Forum de l’Asso, HEC Alumni t’invite à participer à une séance spéciale de speed-mentoring le jeudi 17 janvier...
URL:https://www.hecalumni.fr/fr/event/speed-mentoring/2019/01/17/4518
BEGIN:VALARM
TRIGGER:-P0DT1H0M0S
ACTION:DISPLAY
END:VALARM
END:VEVENT
END:VCALENDAR