BEGIN:VCALENDAR
VERSION:2.0
PRODID:-//hacksw/handcal//NONSGML v1.0//EN
BEGIN:VEVENT
DTSTART:20190116T090000
DTEND:20190117T130000
LOCATION:Campus HEC \n1, Rue de la Libération \n78350 JOUY-EN-JOSAS
ORGANIZER;CN=Marine Homo:MAILTO:marine.homo@hecalumni.fr
SUMMARY:FORUM HEC ALUMNI / HEC ALUMNI FORUM
DESCRIPTION:Préparez-vous aux Carrefours HEC \navec le FORUM HEC ALUMNI 2019\nIt’s time to prepare for “Carrefours HEC” \nwith the HEC ALUMNI FORUM 2019  Mercredi 16 janvier - Sur le campus  \n Wednesday, January...
URL:https://www.hecalumni.fr/fr/event/forum-hec-alumni-hec-alumni-forum/2019/01/16/4516
BEGIN:VALARM
TRIGGER:-P0DT1H0M0S
ACTION:DISPLAY
END:VALARM
END:VEVENT
END:VCALENDAR