BEGIN:VCALENDAR
VERSION:2.0
PRODID:-//hacksw/handcal//NONSGML v1.0//EN
BEGIN:VEVENT
DTSTART:20181129T143000
DTEND:20181129T210000
LOCATION:CESE \n9, Place d'Iéna \n75016 PARIS-16E-ARRONDISSEMENT
ORGANIZER;CN=Janet O Sullivan:MAILTO:janet.osullivan@hecalumni.fr
SUMMARY:COLLOQUE X-HEC: "From start up to scale up, question d'ambitions ? Ou comment créer des licornes en Europe ?" - Jeudi 29 novembre 2018 au CESE
DESCRIPTION:From start up to scale up, une question d’ambitions ?Ou comment créer des licornes en Europe ?\nUn colloque organisé conjointement par l'AX et  HEC Alumni. Au cours de l'après midi, et du début de...
URL:https://www.hecalumni.fr/fr/event/colloque-x-hec-from-start-up-to-scale-up-question-d-ambitions-ou-comment-creer-des-licornes-en-europe-jeudi-29-novembre-2018-au-cese/2018/11/29/4359
BEGIN:VALARM
TRIGGER:-P0DT1H0M0S
ACTION:DISPLAY
END:VALARM
END:VEVENT
END:VCALENDAR