BEGIN:VCALENDAR
VERSION:2.0
PRODID:-//hacksw/handcal//NONSGML v1.0//EN
BEGIN:VEVENT
DTSTART:20160531T090000
DTEND:20160531T180000
LOCATION:9 avenue Franklin Roosevelt \n9, Avenue Franklin Delano Roosevelt \n75008 PARIS
ORGANIZER;CN=Claudette Couffi:MAILTO:claudette.couffi@hecalumni.fr
SUMMARY:Séminaire "Choisis les 'next steps' de ton parcours professionel ! (Bilan-projet)
DESCRIPTION:\nDiplômés HEC: vous devez activer votre compte pour bénéficier du meilleur tarif,\npour cela cliquez ci-dessous, si vous ne l'avez pas encore fait sur ce nouveau site:\n Activez votre...
URL:https://www.hecalumni.fr/fr/event/seminaire-choisis-les-next-steps-de-ton-parcours-professionel-bilan-projet/2016/05/31/409
BEGIN:VALARM
TRIGGER:-P0DT1H0M0S
ACTION:DISPLAY
END:VALARM
END:VEVENT
END:VCALENDAR