BEGIN:VCALENDAR
VERSION:2.0
PRODID:-//hacksw/handcal//NONSGML v1.0//EN
BEGIN:VEVENT
DTSTART:20180319T190000
DTEND:20180319T220000
LOCATION:Hub BPIFrance \n8, Boulevard Haussmann \n75009 PARIS-9E-ARRONDISSEMENT
ORGANIZER;CN=Marine Homo:MAILTO:marine.homo@hecalumni.fr
SUMMARY:Les Rencontres WATs4U, première!
DESCRIPTION:Au Hub BPI France, 10 entreprises vous présentent leurs offres de postes expérimentésLundi 19 mars lors d'une soirée de networking et job dating Réservé aux trentenaires\nWATs4U : Le job-board des...
URL:https://www.hecalumni.fr/fr/event/les-rencontres-wats4u-premiere/2018/03/19/3908
BEGIN:VALARM
TRIGGER:-P0DT1H0M0S
ACTION:DISPLAY
END:VALARM
END:VEVENT
END:VCALENDAR