BEGIN:VCALENDAR
VERSION:2.0
PRODID:-//hacksw/handcal//NONSGML v1.0//EN
BEGIN:VEVENT
DTSTART:20180329T091500
DTEND:20180329T130000
LOCATION:HEC Alumni \n9, Avenue Franklin Delano Roosevelt \n75008 PARIS
ORGANIZER;CN=Marine Homo:MAILTO:marine.homo@hecalumni.fr
SUMMARY:Séminaire "Oriente ta carrière dans le sens qui te convient vraiment"
DESCRIPTION:N’oubliez pas :Cotiser, c’est bénéficier de tarifs préférentiels pour nos événements ; mais cotiser, c‘est aussi un geste de solidarité pour la communauté HEC.CLIQUEZ ICI ! ﻿Merci\nEntreprendre un...
URL:https://www.hecalumni.fr/fr/event/seminaire-oriente-ta-carriere-dans-le-sens-qui-te-convient-vraiment/2018/03/29/3874
BEGIN:VALARM
TRIGGER:-P0DT1H0M0S
ACTION:DISPLAY
END:VALARM
END:VEVENT
END:VCALENDAR