BEGIN:VCALENDAR
VERSION:2.0
PRODID:-//hacksw/handcal//NONSGML v1.0//EN
BEGIN:VEVENT
DTSTART:20180215T130000
DTEND:20180215T140000
LOCATION:-
ORGANIZER;CN=Marine Homo:MAILTO:marine.homo@hecalumni.fr
SUMMARY:WEBINAR "Inventing Tomorrow's Company"
DESCRIPTION:HEC Alumni, in collaboration with HEC Paris Executive Education*, offers a series of English webinars to give alumni access to top-level content wherever they may be.\nOur next 45-minute webinar will ...
URL:https://www.hecalumni.fr/fr/event/webinar-inventing-tomorrow-s-company/2018/02/15/3813
BEGIN:VALARM
TRIGGER:-P0DT1H0M0S
ACTION:DISPLAY
END:VALARM
END:VEVENT
END:VCALENDAR