BEGIN:VCALENDAR
VERSION:2.0
PRODID:-//hacksw/handcal//NONSGML v1.0//EN
BEGIN:VEVENT
DTSTART:20180220T183000
DTEND:20180220T213000
LOCATION:HEC Alumni \n9, Avenue Franklin Delano Roosevelt \n75008 PARIS
ORGANIZER;CN=Claudette Couffi:MAILTO:claudette.couffi@hecalumni.fr
SUMMARY:Séminaire Champions Pitch™ par Jacques Birol - 20 Février
DESCRIPTION:N’oubliez pas :Cotiser, c’est bénéficier de tarifs préférentiels pour nos événements ; mais cotiser, c‘est aussi un geste de solidarité pour la communauté HEC.CLIQUEZ ICI !...
URL:https://www.hecalumni.fr/fr/event/seminaire-champions-pitch-par-jacques-birol-20-fevrier/2018/02/20/3723
BEGIN:VALARM
TRIGGER:-P0DT1H0M0S
ACTION:DISPLAY
END:VALARM
END:VEVENT
END:VCALENDAR