BEGIN:VCALENDAR
VERSION:2.0
PRODID:-//hacksw/handcal//NONSGML v1.0//EN
BEGIN:VEVENT
DTSTART:20180922T090000
DTEND:20180922T123000
LOCATION:HEC Alumni \n9, Avenue Franklin Delano Roosevelt \n75008 PARIS
ORGANIZER;CN=Claudette Couffi:MAILTO:claudette.couffi@hecalumni.fr
SUMMARY:Séminaire "La démarche réseau : mise en oeuvre concrète" - 22 Septembre
DESCRIPTION:2ème séance – le lundi 24 septembre de 18h à 21h Te permettre de commencer à construire ton réseau et à t'en servir, et t'entraîner à une démarche active pour développer et exploiter à bon escient cet...
URL:https://www.hecalumni.fr/fr/event/seminaire-la-demarche-reseau-mise-en-oeuvre-concrete-22-septembre/2018/09/22/3679
BEGIN:VALARM
TRIGGER:-P0DT1H0M0S
ACTION:DISPLAY
END:VALARM
END:VEVENT
END:VCALENDAR